BEGIN:VCALENDAR
VERSION:2.0
PRODID:-//Library Market//iCal Export//EN
BEGIN:VEVENT
SUMMARY:Kickoff to Summer Show: Dinoman-Dinosaurs!
UID:58614
DTSTAMP:20260420T141100Z
DTSTART:20260627T190000Z
DTEND:20260627T194500Z
LOCATION:Riverhead Free Library, 330 Court Street, Riverhead, NY 11901, Un
 ited States
ROOM: Grand Room
DESCRIPTION:With magic, merry mayhem and life-size dinosaurs - the audienc
 e takes a trip through the Mesozoic era.
URL:https://www.riverheadlibrary.org/index.php/event/dinoman-58614
END:VEVENT
END:VCALENDAR
