BEGIN:VCALENDAR
VERSION:2.0
PRODID:-//Library Market//iCal Export//EN
BEGIN:VEVENT
SUMMARY:Red, White &amp; Blue Paper Flower Wreath
UID:59610
DTSTAMP:20260420T121700Z
DTSTART:20260518T180000Z
DTEND:20260518T193000Z
LOCATION:Riverhead Free Library, 330 Court Street, Riverhead, NY 11901, Un
 ited States
ROOM: Craft Room
DESCRIPTION:Join Casey Cunningham in creating this red, white and blue pap
 er flower wreath to express your patriot spirit.  
URL:https://www.riverheadlibrary.org/index.php/event/red-white-blue-paper-
 flowers-59610
END:VEVENT
END:VCALENDAR
