BEGIN:VCALENDAR
VERSION:2.0
PRODID:-//Library Market//iCal Export//EN
BEGIN:VEVENT
SUMMARY:Caring for the Caregiver Presented by ADRC
UID:63730
DTSTAMP:20260420T024600Z
DTSTART:20260506T170000Z
DTEND:20260506T180000Z
LOCATION:Riverhead Free Library, 330 Court Street, Riverhead, NY 11901, Un
 ited States
ROOM: Craft Room
DESCRIPTION:This one-hour program is designed to give caregivers for peop
 le living with dementia a chance to pause, refresh, and connect. In this s
 ession, participants will learn simple self-care techniques, learn about c
 ommunity support, share experiences with others who understand, and explor
 e practical tips for managing the challenges of dementia care. This hour i
 s all about taking time for yourself—because caring for someone with dem
 entia starts with caring for you.  
URL:https://www.riverheadlibrary.org/index.php/event/caring-caregiver-pres
 ented-adrc-63730
END:VEVENT
END:VCALENDAR
