BEGIN:VCALENDAR
VERSION:2.0
PRODID:-//Library Market//iCal Export//EN
BEGIN:VEVENT
SUMMARY:Taxes, Probate &amp; Protection: What Families Should Know with Bu
 rner Prudenti Law, P.C.
UID:63731
DTSTAMP:20260420T042700Z
DTSTART:20260513T170000Z
DTEND:20260513T180000Z
LOCATION:Riverhead Free Library, 330 Court Street, Riverhead, NY 11901, Un
 ited States
ROOM: Craft Room
DESCRIPTION:Do I need to be concerned about probate if I have a will? How 
 can I best protect my assets?Join us for an informative discussion as we e
 xplore the role of essential estate planning documents, explain the probat
 e process, and address common misconceptions that can impact families and 
 their legacy.
URL:https://www.riverheadlibrary.org/index.php/event/taxes-probate-protect
 ion-what-families-should-know-63731
END:VEVENT
END:VCALENDAR
