BEGIN:VCALENDAR
VERSION:2.0
PRODID:-//Library Market//iCal Export//EN
BEGIN:VEVENT
SUMMARY:Movie Matinee Friday: Benedict Arnold: A Question of Honor
UID:63732
DTSTAMP:20260420T071800Z
DTSTART:20260515T170000Z
DTEND:20260515T193000Z
LOCATION:Riverhead Free Library, 330 Court Street, Riverhead, NY 11901, Un
 ited States
ROOM: Grand Room
DESCRIPTION:On the glorious battlefields of the American Revolution, two g
 reat generals distinguished themselves; George Washington and Benedict Arn
 old. Washington is remembered as America&#039;s founding father, Arnold as
  America&#039;s most notorious traitor. Benedict Arnold rose from humble o
 rigins to become the most respected and feared of America&#039;s generals.
  He won brilliant military victories against the English colonists and was
  Washington&#039;s favorite soldier. But two conflicting forces battled in
 side Arnold&#039;s heart; a deep concern for his country and his passionat
 e love for an enchanting and manipulative Philadelphia woman, Peggy Shippe
 n. Blinded by desire, Arnold defected to the English army, orchestrating a
 n attempt to assassinate his own mentor, George Washington.We will supply 
 all your favorite concession stand stacks. NO REGISTRATION REQUIRED!
URL:https://www.riverheadlibrary.org/index.php/event/movie-matinee-friday-
 revolution-63732
END:VEVENT
END:VCALENDAR
