BEGIN:VCALENDAR
VERSION:2.0
PRODID:-//Library Market//iCal Export//EN
BEGIN:VEVENT
SUMMARY:Pokémon Club Kickoff Party (Grades K-5)
UID:64697
DTSTAMP:20260420T225800Z
DTSTART:20260512T200000Z
DTEND:20260512T220000Z
LOCATION:Riverhead Free Library, 330 Court Street, Riverhead, NY 11901, Un
 ited States
ROOM: Stage Room
DESCRIPTION:Kick off our new Pokémon Club with an exciting first gatherin
 g for Trainers of all experience levels! Get an introduction to the club a
 longside a watch party of Pokémon the Movie: Secrets of the Jungle while 
 enjoying Pokémon themed crafts, beginner-friendly Trading Card Game play,
  and snacks. New Trainers are always welcome!
URL:https://www.riverheadlibrary.org/index.php/event/pokemon-club-kickoff-
 64697
END:VEVENT
END:VCALENDAR
