BEGIN:VCALENDAR
VERSION:2.0
PRODID:-//Library Market//iCal Export//EN
BEGIN:VEVENT
SUMMARY:NYS Safe Boating Certification Course
UID:64699
DTSTAMP:20260420T184900Z
DTSTART:20260509T040000Z
DTEND:20260509T040000Z
LOCATION:Riverhead Free Library, 330 Court Street, Riverhead, NY 11901, Un
 ited States
ROOM: Grand Room
DESCRIPTION:Assemblywoman Jodi Giglio will be sponsoring this 1-Day NYS
 Safe Boating certification course, offered by Safe Boating America.
 Pre-registration is required and seating is limited. The fee for this cou
 rse is $70.00 (discounted from $85) and registrants must be a minimum of 1
 0 years of age. PRE-REGISTRATION IS REQUIRED. Please register online and
  bring your paid receipt to class.This course meets the NYS and USCG requi
 rements for PWC Operation (i.e. Jet-ski, Waverunner), along with Youth and
  Adult Boating Certification (if applicable). Upon successful completion, 
 you will have met the requirements and can operate a PWC (i.e. Jet-ski) or
  as a youth boater operate a vessel independently. You will receive a cert
 ificate (often incorrectly referred to as a NYS Boating License or jetski 
 license) upon successful completion of this course- certificate received s
 ame day as class.The course is designed as a comprehensive boating course,
  teaching the fundamentals of safe boating operation. Taught by State Cert
 ified Instructors with materials approved by the National Association of S
 tate Boating Law Administrators. NYS requires classroom instruction, and t
 his class includes the following topics:Accidents &amp; Emergencies     
                                         Boat Operatio
 nBoating Related ActivitiesBoats &amp; MotorsEquipmentFueling &amp; Ventil
 ationMarine EnvironmentNavigationNumbering &amp; RegistrationPersonal Wate
 rcraftRules of the RoadSafe Loading &amp; PoweringUpon successful completi
 on of the course a temporary certification, valid for 90 days, will be iss
 ued- adults 18 yrs of age or older will be required to mail a $10 fee to t
 he State of New York so that their permanent Certification card can be iss
 ued within this 90 day period. For children between 10-17 yrs of age, the 
 $10 NYS fee is waived.Book is given when you arrive at the classRegister a
 t  https://safeboatingamerica.com/Safety-BoatingOnce on the page, enter 
 your name and click Add To Cart. (You will see an $85 course fee until the
  discount code is applied. Scroll down this page to see the class descript
 ion.) Click Proceed to Checkout unless you are registering more than one 
 individual. Insert email address and click Continue.On the Billing page, 
 right hand side, just above the total, click on Promo/Gift Certificate to 
 insert the discount code &quot;RIVERHEADLIBRARY&quot; then click Apply.Be 
 sure to use your discount code “RIVERHEADLIBRARY” to get the library d
 iscount.No discount or refunds given once registered. 
URL:https://www.riverheadlibrary.org/index.php/event/nys-safe-boating-cert
 ification-course-64699
END:VEVENT
END:VCALENDAR
