BEGIN:VCALENDAR
VERSION:2.0
PRODID:-//Library Market//iCal Export//EN
BEGIN:VEVENT
SUMMARY:Pokémon Club: Learn to Play (Grades K-5)
UID:64702
DTSTAMP:20260422T015300Z
DTSTART:20260609T200000Z
DTEND:20260609T210000Z
LOCATION:Riverhead Free Library, 330 Court Street, Riverhead, NY 11901, Un
 ited States
ROOM: Stage Room
DESCRIPTION:Pokémon Club is a fun and welcoming space where Trainers can 
 gather to enjoy the Pokémon Trading Card Game, trade tips, build decks, a
 nd connect with other fans. In this session, we focus on the basics for be
 ginners to learn how to play using the Pokémon Battle Academy game! Addit
 ional stations will be available for experienced players to enjoy advanced
  matches, along with craft activities for trainers who prefer a creative b
 reak.
URL:https://www.riverheadlibrary.org/index.php/event/pokemon-club-64702
END:VEVENT
END:VCALENDAR
