BEGIN:VCALENDAR
VERSION:2.0
PRODID:-//Library Market//iCal Export//EN
BEGIN:VEVENT
SUMMARY:Lil Athletes: Baseball (20-35 months)
UID:66062
DTSTAMP:20260422T040800Z
DTSTART:20260615T150000Z
DTEND:20260615T154500Z
LOCATION:Riverhead Free Library, 330 Court Street, Riverhead, NY 11901, Un
 ited States
ROOM: Grand Room
DESCRIPTION:For ages 20-35 months. Join Lil’ Athletes for baseball pract
 ice and get your little one moving.
URL:https://www.riverheadlibrary.org/index.php/event/lil-athletes-baseball
 -20-35-months-66062
END:VEVENT
END:VCALENDAR
