BEGIN:VCALENDAR
VERSION:2.0
PRODID:-//Library Market//iCal Export//EN
BEGIN:VEVENT
SUMMARY:Better Hearing Month: Free Hearing Screening
UID:66786
DTSTAMP:20260420T024600Z
DTSTART:20260512T170000Z
DTEND:20260512T190000Z
LOCATION:Riverhead Free Library, 330 Court Street, Riverhead, NY 11901, Un
 ited States
ROOM: Writer&#039;s Cove
DESCRIPTION:McGuire&#039;s Hearing Centers staff will provide free hearing
  screenings and video otoscopy.  No registration required.  
URL:https://www.riverheadlibrary.org/index.php/event/better-hearing-month-
 free-hearing-screening-66786
END:VEVENT
END:VCALENDAR
