BEGIN:VCALENDAR
VERSION:2.0
PRODID:-//Library Market//iCal Export//EN
BEGIN:VEVENT
SUMMARY:Bridge Club
UID:66907
DTSTAMP:20260420T205400Z
DTSTART:20260518T170000Z
DTEND:20260518T200000Z
LOCATION:Riverhead Free Library, 330 Court Street, Riverhead, NY 11901, Un
 ited States
ROOM: Writer&#039;s Cove
DESCRIPTION:Join your neighbors for drop-in Bridge games. No registration 
 needed. All levels are welcome.
URL:https://www.riverheadlibrary.org/index.php/event/bridge-club-66907
END:VEVENT
END:VCALENDAR
