BEGIN:VCALENDAR
VERSION:2.0
PRODID:-//Library Market//iCal Export//EN
BEGIN:VEVENT
SUMMARY:Chess Club
UID:66927
DTSTAMP:20260420T204400Z
DTSTART:20260622T214500Z
DTEND:20260622T234500Z
LOCATION:Riverhead Free Library, 330 Court Street, Riverhead, NY 11901, Un
 ited States
ROOM: Writer&#039;s Cove
DESCRIPTION:Drop in to play Chess with your neighbors. All are welcome, bu
 t enough knowledge to play unassisted is best.
URL:https://www.riverheadlibrary.org/index.php/event/chess-club-66927
END:VEVENT
END:VCALENDAR
