BEGIN:VCALENDAR
VERSION:2.0
PRODID:-//Library Market//iCal Export//EN
BEGIN:VEVENT
SUMMARY:Screen-Free Saturdays (K-5)
UID:67060
DTSTAMP:20260420T075400Z
DTSTART:20260516T140000Z
DTEND:20260516T160000Z
LOCATION:Riverhead Free Library, 330 Court St., Riverhead, NY 11901, Unite
 d States
ROOM: Children&#039;s Programming Room
DESCRIPTION:Unplug from your screens and enjoy a morning of fun, laughter,
  strategy, and teamwork! Drop in to play awesome board games that spark cr
 eativity and build friendships. For families with children in grades K-5.
  No registration required.
URL:https://www.riverheadlibrary.org/index.php/event/screen-free-saturdays
 -k-5-67060
END:VEVENT
END:VCALENDAR
