BEGIN:VCALENDAR
VERSION:2.0
PRODID:-//Library Market//iCal Export//EN
BEGIN:VEVENT
SUMMARY:Father&#039;s Day Socks
UID:67064
DTSTAMP:20260420T172400Z
DTSTART:20260615T180000Z
DTEND:20260615T230000Z
LOCATION:Riverhead Free Library, 330 Court St., Riverhead, NY 11901, Unite
 d States
ROOM: Children&#039;s Programming Room
DESCRIPTION:Decorate a pair of socks to create a one-of-a-kind gift for Da
 d, Grandpa, or someone special! Please register each individual child to r
 eceive a pair of socks. You may drop in any time for the duration of the p
 rogram to decorate your socks. 
URL:https://www.riverheadlibrary.org/index.php/event/fathers-day-socks-670
 64
END:VEVENT
END:VCALENDAR
