BEGIN:VCALENDAR
VERSION:2.0
PRODID:-//Library Market//iCal Export//EN
BEGIN:VEVENT
SUMMARY:Dotty Creations (2-5 Years)
UID:67067
DTSTAMP:20260420T073800Z
DTSTART:20260511T193000Z
DTEND:20260511T223000Z
LOCATION:Riverhead Free Library, 330 Court St., Riverhead, NY 11901, Unite
 d States
ROOM: Children&#039;s Programming Room
DESCRIPTION:For ages 2-5 years. Dot, dot, hooray! Young artists will have 
 a blast creating colorful designs with dot markers while exploring creativ
 ity and strengthening fine motor skills.No registration required.
URL:https://www.riverheadlibrary.org/index.php/event/dotty-creations-2-5-6
 7067
END:VEVENT
END:VCALENDAR
