BEGIN:VCALENDAR
VERSION:2.0
PRODID:-//Library Market//iCal Export//EN
BEGIN:VEVENT
SUMMARY:Little Artists (2-5 Years)
UID:67068
DTSTAMP:20260420T075400Z
DTSTART:20260512T140000Z
DTEND:20260512T153000Z
LOCATION:Riverhead Free Library, 330 Court St., Riverhead, NY 11901, Unite
 d States
ROOM: Children&#039;s Programming Room
DESCRIPTION:For ages 2-5. Little artists are invited to explore colors, te
 xtures, and materials in this hands-on drop-in art program for preschooler
 s. Children will create freely using age-appropriate, open-ended art activ
 ities that focus on the process—not the finished product. Caregivers sta
 y and create alongside their child.No registration required.
URL:https://www.riverheadlibrary.org/index.php/event/little-artists-2-5-67
 068
END:VEVENT
END:VCALENDAR
