BEGIN:VCALENDAR
VERSION:2.0
PRODID:-//Library Market//iCal Export//EN
BEGIN:VEVENT
SUMMARY:Preschool Playdate (3-5 Years)
UID:67069
DTSTAMP:20260420T073800Z
DTSTART:20260514T200000Z
DTEND:20260514T220000Z
LOCATION:Riverhead Free Library, 330 Court St., Riverhead, NY 11901, Unite
 d States
ROOM: Children&#039;s Programming Room
DESCRIPTION:For ages 3-5 years. Join us for a fun and relaxed Preschool Pl
 aydate! Little ones and their caregivers can enjoy free play, toys, and ti
 me to socialize with new friends. This is a great opportunity to build ear
 ly social skills while having fun in a welcoming library space.No registra
 tion required.
URL:https://www.riverheadlibrary.org/index.php/event/preschool-playdate-3-
 5-67069
END:VEVENT
END:VCALENDAR
