BEGIN:VCALENDAR
VERSION:2.0
PRODID:-//Library Market//iCal Export//EN
BEGIN:VEVENT
SUMMARY:Baby &amp; Toddler Playdate (Birth-24 Months)
UID:67071
DTSTAMP:20260420T075400Z
DTSTART:20260515T140000Z
DTEND:20260515T160000Z
LOCATION:Riverhead Free Library, 330 Court St., Riverhead, NY 11901, Unite
 d States
ROOM: Children&#039;s Programming Room
DESCRIPTION:For ages birth- 24 months. Join us for a fun, relaxed playdate
  designed just for babies and toddlers and their caregivers! Little ones c
 an explore age-appropriate toys, enjoy simple activities, and build early 
 social skills through play. Caregivers will have a chance to connect, chat
 , and share in a welcoming, low-key environment.No registration required.
URL:https://www.riverheadlibrary.org/index.php/event/baby-toddler-playdate
 -birth-24-months-67071
END:VEVENT
END:VCALENDAR
