BEGIN:VCALENDAR
VERSION:2.0
PRODID:-//Library Market//iCal Export//EN
BEGIN:VEVENT
SUMMARY:Yarn Wrapped Bee Craft (Preschool-Grade 5)
UID:67072
DTSTAMP:20260420T121700Z
DTSTART:20260520T040000Z
DTEND:20260520T040000Z
LOCATION:Riverhead Free Library, 330 Court St., Riverhead, NY 11901, Unite
 d States
ROOM: Children&#039;s Programming Room
DESCRIPTION:Celebrate World Bee Day with a simple bee-themed craft that su
 pports young children’s fine motor skills.No registration required.
URL:https://www.riverheadlibrary.org/index.php/event/yarn-wrapped-bee-craf
 t-preschool-grade-5-67072
END:VEVENT
END:VCALENDAR
