BEGIN:VCALENDAR
VERSION:2.0
PRODID:-//Library Market//iCal Export//EN
BEGIN:VEVENT
SUMMARY:Sprouts &amp; Friends (Birth-5 years)
UID:67100
DTSTAMP:20260422T055400Z
DTSTART:20260622T143000Z
DTEND:20260622T151500Z
LOCATION:Riverhead Free Library, 330 Court St., Riverhead, NY 11901, Unite
 d States
ROOM: Children&#039;s Programming Room
DESCRIPTION:For ages birth-5 years. Sprouts &amp; Friends is a music and m
 ovement program for families with children. Our mission is to create joy w
 hile we play, learn and grow together. Come ready to move and sing with yo
 ur child.
URL:https://www.riverheadlibrary.org/index.php/event/sprouts-friends-birth
 -5-years-67100
END:VEVENT
END:VCALENDAR
