BEGIN:VCALENDAR
VERSION:2.0
PRODID:-//Library Market//iCal Export//EN
BEGIN:VEVENT
SUMMARY:Taco Cookies (Grades K-5)
UID:67105
DTSTAMP:20260420T230500Z
DTSTART:20260518T213000Z
DTEND:20260518T221500Z
LOCATION:Riverhead Free Library, 330 Court St., Riverhead, NY 11901, Unite
 d States
ROOM: Children&#039;s Programming Room
DESCRIPTION:Join us for a sweet twist on a favorite food! Decorate cookies
  to look like tasty tacos!
URL:https://www.riverheadlibrary.org/index.php/event/taco-cookies-grades-k
 -5-67105
END:VEVENT
END:VCALENDAR
