BEGIN:VCALENDAR
VERSION:2.0
PRODID:-//Library Market//iCal Export//EN
BEGIN:VEVENT
SUMMARY:Slime Time (Grades K-5)
UID:67106
DTSTAMP:20260420T224700Z
DTSTART:20260519T210000Z
DTEND:20260519T213000Z
LOCATION:Riverhead Free Library, 330 Court St., Riverhead, NY 11901, Unite
 d States
ROOM: Children&#039;s Programming Room
DESCRIPTION:Summer is almost here! Dress for a mess and create a summer ti
 me slime
URL:https://www.riverheadlibrary.org/index.php/event/slime-time-grades-k-5
 -67106
END:VEVENT
END:VCALENDAR
