BEGIN:VCALENDAR
VERSION:2.0
PRODID:-//Library Market//iCal Export//EN
BEGIN:VEVENT
SUMMARY:Father&#039;s Day Cards Crafting (Grades 2-5)
UID:67110
DTSTAMP:20260422T040800Z
DTSTART:20260616T210000Z
DTEND:20260616T220000Z
LOCATION:Riverhead Free Library, 330 Court St., Riverhead, NY 11901, Unite
 d States
ROOM: Children&#039;s Programming Room
DESCRIPTION:Create a grill themed fathers day card for dad and write a mea
 ningful message to show him how much you care. 
URL:https://www.riverheadlibrary.org/index.php/event/fathers-day-cards-cra
 fting-grades-2-5-67110
END:VEVENT
END:VCALENDAR
