BEGIN:VCALENDAR
VERSION:2.0
PRODID:-//Library Market//iCal Export//EN
BEGIN:VEVENT
SUMMARY:Smash Bros Tournament (Grades 6-12)
UID:67124
DTSTAMP:20260420T224700Z
DTSTART:20260515T183000Z
DTEND:20260515T203000Z
LOCATION:Riverhead Free Library, 330 Court St., Riverhead, NY 11901, Unite
 d States
ROOM: Teen Loft
DESCRIPTION:Put your skills to the test in our Smash Bros tournament! One 
 winner will receive a gift card.
URL:https://www.riverheadlibrary.org/index.php/event/smash-bros-tournament
 -67124
END:VEVENT
END:VCALENDAR
