BEGIN:VCALENDAR
VERSION:2.0
PRODID:-//Library Market//iCal Export//EN
BEGIN:VEVENT
SUMMARY:Teen Pokémon Club (Grades 6-12)
UID:67125
DTSTAMP:20260422T055400Z
DTSTART:20260623T210000Z
DTEND:20260623T220000Z
LOCATION:Riverhead Free Library, 330 Court St., Riverhead, NY 11901, Unite
 d States
ROOM: Teen Loft
DESCRIPTION:Join other teen Trainers to play the Pokémon Trading Card Gam
 e, trade cards, build and test decks, and share strategies with fellow fan
 s. Whether you’re competitive or just getting started, all experience le
 vels are welcome.
URL:https://www.riverheadlibrary.org/index.php/event/teen-pokemon-club-671
 25
END:VEVENT
END:VCALENDAR
