BEGIN:VCALENDAR
VERSION:2.0
PRODID:-//Library Market//iCal Export//EN
BEGIN:VEVENT
SUMMARY:Teen Pokémon Club (Grades 6-12)
UID:67126
DTSTAMP:20260420T230500Z
DTSTART:20260526T210000Z
DTEND:20260526T220000Z
LOCATION:Riverhead Free Library, 330 Court St., Riverhead, NY 11901, Unite
 d States
ROOM: Teen Loft
DESCRIPTION:Join other teen Trainers to play the Pokémon Trading Card Gam
 e, trade cards, build and test decks, and share strategies with fellow fan
 s. Whether you’re competitive or just getting started, all experience le
 vels are welcome.
URL:https://www.riverheadlibrary.org/index.php/event/teen-pokemon-club-671
 26
END:VEVENT
END:VCALENDAR
