BEGIN:VCALENDAR
VERSION:2.0
PRODID:-//Library Market//iCal Export//EN
BEGIN:VEVENT
SUMMARY:Zine Studio (Grades 6-12)
UID:67127
DTSTAMP:20260421T223400Z
DTSTART:20260525T040000Z
DTEND:20260530T040000Z
LOCATION:Riverhead Free Library, 330 Court St., Riverhead, NY 11901, Unite
 d States
ROOM: Teen Loft
DESCRIPTION:Create your own zine using our free supplies and step-by-step 
 zine-making guide. No registration required. 
URL:https://www.riverheadlibrary.org/index.php/event/zine-studio-67127
END:VEVENT
END:VCALENDAR
