BEGIN:VCALENDAR
VERSION:2.0
PRODID:-//Library Market//iCal Export//EN
BEGIN:VEVENT
SUMMARY:Teen Loft Quiet Study Hours – Regents Prep (Grades 6-12)
UID:67133
DTSTAMP:20260422T055200Z
DTSTART:20260622T180000Z
DTEND:20260622T200000Z
LOCATION:Riverhead Free Library, 330 Court St., Riverhead, NY 11901, Unite
 d States
ROOM: Teen Loft
DESCRIPTION:Stop by the Teen Loft to study with friends. Use our whiteboa
 rd table to write out notes, brainstorm, and prep for exams in a quiet, fo
 cused space. Light snacks will be provided 
URL:https://www.riverheadlibrary.org/index.php/event/teen-loft-quiet-study
 -hours-regents-prep-67133
END:VEVENT
END:VCALENDAR
