BEGIN:VCALENDAR
VERSION:2.0
PRODID:-//Library Market//iCal Export//EN
BEGIN:VEVENT
SUMMARY:3D-Printed Aliens! (Grades 6-12)
UID:67196
DTSTAMP:20260421T203000Z
DTSTART:20260518T040000Z
DTEND:20260523T040000Z
LOCATION:Riverhead Free Library, 330 Court St., Riverhead, NY 11901, Unite
 d States
ROOM: Teen Loft
DESCRIPTION:May the Fourth be with you! Sign up to get a figurine of this 
 little movie star, courtesy of our 3D printer, then decorate him in your o
 wn personal style. Figurines will be pre-printed and available for pickup
  for the week; limit 1 per patron.
URL:https://www.riverheadlibrary.org/index.php/event/3d-printed-aliens-671
 96
END:VEVENT
END:VCALENDAR
