BEGIN:VCALENDAR
VERSION:2.0
PRODID:-//Library Market//iCal Export//EN
BEGIN:VEVENT
SUMMARY:Long Island Cares Mobile Food Assistance
UID:67331
DTSTAMP:20260420T032900Z
DTSTART:20260507T150000Z
DTEND:20260507T160000Z
LOCATION:Riverhead Free Library, 330 Court St., Riverhead, NY 11901, Unite
 d States
ROOM: Library Parking Lot
DESCRIPTION:Are you in need of emergency food? The Riverhead Free Library 
 is partnering with Long Island Cares to make sure all community members in
  need are well- nourished. Long Island Cares will supply pre-packaged bags
  filled with non-perishable food items.No identification is required to pi
 ck up your supply of food. This is a walk-up service only. 
URL:https://www.riverheadlibrary.org/index.php/event/long-island-cares-mob
 ile-food-assistance-67331
END:VEVENT
END:VCALENDAR
