BEGIN:VCALENDAR
VERSION:2.0
PRODID:-//Library Market//iCal Export//EN
BEGIN:VEVENT
SUMMARY:Kind Words Wall
UID:67333
DTSTAMP:20260422T000900Z
DTSTART:20260601T040000Z
DTEND:20260606T040000Z
LOCATION:Riverhead Free Library, 330 Court St., Riverhead, NY 11901, Unite
 d States
ROOM: Kind Words Wall
DESCRIPTION:Celebrate National Say Something Nice Day by sharing a little 
 kindness! Drop by the Children’s Room to create a colorful compliment ca
 rd and write something nice for a friend, family member, or someone in our
  community to add to our Kind Words Wall.
URL:https://www.riverheadlibrary.org/index.php/event/kind-words-wall-67333
END:VEVENT
END:VCALENDAR
