BEGIN:VCALENDAR
VERSION:2.0
PRODID:-//Library Market//iCal Export//EN
BEGIN:VEVENT
SUMMARY:Tai Chi with Denise
UID:67336
DTSTAMP:20260420T204500Z
DTSTART:20260518T200000Z
DTEND:20260518T210000Z
LOCATION:Riverhead Free Library, 330 Court Street, Riverhead, NY 11901, Un
 ited States
ROOM: Grand Room
DESCRIPTION:Beginners welcome. This program is open to Riverhead Free Libr
 ary cardholders only. 
URL:https://www.riverheadlibrary.org/index.php/event/tai-chi-denise-67336
END:VEVENT
END:VCALENDAR
