BEGIN:VCALENDAR
VERSION:2.0
PRODID:-//Library Market//iCal Export//EN
BEGIN:VEVENT
SUMMARY:Audiobook Walking Group
UID:67345
DTSTAMP:20260421T185100Z
DTSTART:20260513T140000Z
DTEND:20260513T160000Z
LOCATION:Blue Owl Trail at Sears Bellows, 63 Bellows Pond Road, Hampton Ba
 ys, NY 11946, United States
ROOM: Audiobook Walking Group
DESCRIPTION:Come join us for a walk and listen!  Bring your current audio
 book to listen to just enjoy the sounds of nature as we take an easy 1-2 m
 ile hike. Blue Owl Trail at Sears Bellows County Park63 Bellows Pond Road
  Hampton Bays
URL:https://www.riverheadlibrary.org/index.php/event/audiobook-walking-gro
 up-67345
END:VEVENT
END:VCALENDAR
