BEGIN:VCALENDAR
VERSION:2.0
PRODID:-//Library Market//iCal Export//EN
BEGIN:VEVENT
SUMMARY:Soccer Shots (18 months-2 years)
UID:67350
DTSTAMP:20260421T191600Z
DTSTART:20260925T143000Z
DTEND:20260925T150000Z
LOCATION:Riverhead Free Library, 330 Court Street, Riverhead, NY 11901, Un
 ited States
ROOM: Grand Room
DESCRIPTION:
URL:https://www.riverheadlibrary.org/index.php/event/soccer-shots-18-month
 s-2-years-67350
END:VEVENT
END:VCALENDAR
