BEGIN:VCALENDAR
VERSION:2.0
PRODID:-//Library Market//iCal Export//EN
BEGIN:VEVENT
SUMMARY:The Pawject: Pet Bowl Decor
UID:67357
DTSTAMP:20260422T055400Z
DTSTART:20260624T160000Z
DTEND:20260624T210000Z
LOCATION:Riverhead Free Library, 330 Court St., Riverhead, NY 11901, Unite
 d States
ROOM: Teen Loft
DESCRIPTION:Drop-in and decorate stainless steel pet bowls to be donated t
 o Kent Animal Shelter. Participants will earn 1 hour of community service
 . No registration required.
URL:https://www.riverheadlibrary.org/index.php/event/pawject-pet-bowl-deco
 r-67357
END:VEVENT
END:VCALENDAR
