BEGIN:VCALENDAR
VERSION:2.0
PRODID:-//Library Market//iCal Export//EN
BEGIN:VEVENT
SUMMARY:Veteran&#039;s Resource Table
UID:67360
DTSTAMP:20260421T185100Z
DTSTART:20260520T190000Z
DTEND:20260520T210000Z
LOCATION:Riverhead Free Library, 330 Court St., Riverhead, NY 11901, Unite
 d States
ROOM: Showcase Lobby
DESCRIPTION:A Veteran peer mentor from the Joseph P. Dwyer Veterans Peer S
 upport Project will share resources to Veterans and their families. No reg
 istration is required.
URL:https://www.riverheadlibrary.org/index.php/event/copy-veterans-resourc
 e-table-67360
END:VEVENT
END:VCALENDAR
