BEGIN:VCALENDAR
VERSION:2.0
PRODID:-//Library Market//iCal Export//EN
BEGIN:VEVENT
SUMMARY:Simple Cricut Card Making
UID:67423
DTSTAMP:20260424T053100Z
DTSTART:20260610T133000Z
DTEND:20260610T150000Z
LOCATION:Riverhead Free Library, 330 Court St., Riverhead, NY 11901, Unite
 d States
ROOM: Maker Space
DESCRIPTION:Join us in our all new makerspace as we design our own unique 
 cards. We will be using Cricut Design Space to put together beautiful and 
 simple greeting cards that you can keep or give to your loved ones. 
URL:https://www.riverheadlibrary.org/index.php/event/simple-cricut-card-ma
 king-67423
END:VEVENT
END:VCALENDAR
