BEGIN:VCALENDAR
VERSION:2.0
PRODID:-//Library Market//iCal Export//EN
BEGIN:VEVENT
SUMMARY:Community Blood Drive
UID:61772
DTSTAMP:20260422T000900Z
DTSTART:20260608T160000Z
DTEND:20260608T220000Z
LOCATION:Riverhead Free Library, 330 Court Street, Riverhead, NY 11901, Un
 ited States
ROOM: Grand Room
DESCRIPTION:Appointments preferred but walk ins are welcome.  To schedule
  and appointment please visit www.nybc.org or call 1-800-933-2566.
URL:https://www.riverheadlibrary.org/event/community-blood-drive-61772
END:VEVENT
END:VCALENDAR
