BEGIN:VCALENDAR
VERSION:2.0
PRODID:-//Library Market//iCal Export//EN
BEGIN:VEVENT
SUMMARY:Unclaimed Funds
UID:63680
DTSTAMP:20260420T010500Z
DTSTART:20260512T170000Z
DTEND:20260512T180000Z
LOCATION:Riverhead Free Library, 330 Court Street, Riverhead, NY 11901, Un
 ited States
ROOM: Craft Room
DESCRIPTION:NYS Office of the Comptroller will teach us how to search and 
 claim funds you may be owed.
URL:https://www.riverheadlibrary.org/event/unclaimed-funds-ny-state-63680
END:VEVENT
END:VCALENDAR
