BEGIN:VCALENDAR
VERSION:2.0
PRODID:-//Library Market//iCal Export//EN
BEGIN:VEVENT
SUMMARY:Curso de Manejo Defensivo (Defensive Driving Course taught in S
 panish)
UID:63745
DTSTAMP:20260420T230500Z
DTSTART:20260523T133000Z
DTEND:20260523T193000Z
LOCATION:Riverhead Free Library, 330 Court Street, Riverhead, NY 11901, Un
 ited States
ROOM: Craft Room
DESCRIPTION:Llegen 15 minutos antes del cursocon su licencia de conducir. 
 El pago puede hacerse en efectivo, o giro postal del Servicio Postal de lo
 s Estados Unidos a nombre de Empire Safety Council, para ser entregado al 
 instructor el día de la clase. Cuota $35.
URL:https://www.riverheadlibrary.org/event/curso-de-manejo-defensivo-defen
 sive-driving-course-taught-spanish-63745
END:VEVENT
END:VCALENDAR
