BEGIN:VCALENDAR
VERSION:2.0
PRODID:-//Library Market//iCal Export//EN
BEGIN:VEVENT
SUMMARY:Luca Family Movie &amp; Craft Night
UID:64696
DTSTAMP:20260420T045200Z
DTSTART:20260626T180000Z
DTEND:20260626T200000Z
LOCATION:Riverhead Free Library, 330 Court Street, Riverhead, NY 11901, Un
 ited States
ROOM: Grand Room
DESCRIPTION:Celebrate the start of the summer with a screening of Luca (20
 21) while making an ocean-themed craft! Light snacks will be provided. Pl
 ease register each individual child.
URL:https://www.riverheadlibrary.org/event/luca-family-movie-craft-night-6
 4696
END:VEVENT
END:VCALENDAR
