BEGIN:VCALENDAR
VERSION:2.0
PRODID:-//Library Market//iCal Export//EN
BEGIN:VEVENT
SUMMARY:America and the Black Vote
UID:64961
DTSTAMP:20260420T230500Z
DTSTART:20260603T210000Z
DTEND:20260604T000000Z
LOCATION:Riverhead Free Library, 330 Court Street, Riverhead, NY 11901, Un
 ited States
ROOM: Craft Room
DESCRIPTION:
URL:https://www.riverheadlibrary.org/event/america-and-black-vote-64961
END:VEVENT
END:VCALENDAR
