BEGIN:VCALENDAR
VERSION:2.0
PRODID:-//Library Market//iCal Export//EN
BEGIN:VEVENT
SUMMARY:Dive into Summer with a New Attitude
UID:66483
DTSTAMP:20260422T000900Z
DTSTART:20260609T180000Z
DTEND:20260609T190000Z
LOCATION:Riverhead Free Library, 330 Court Street, Riverhead, NY 11901, Un
 ited States
ROOM: Craft Room
DESCRIPTION:How we live and, most importantly, enjoy our life depends upon
  how we view the events we experience and the relationships we develop. So
 me people cower under an umbrella of pessimism while others choose to danc
 e openly in the sunshine of optimism.Behavioral scientists have proven we 
 have the cognitive ability to change our thoughts, beliefs and behaviors. 
 Since the summer is traditionally a period of renewal and resolution, ther
 e is no better time to commit to living optimistically than right now, as 
 summer unfolds.This seminar opens the window on optimistic thinking for th
 ose who have yet to experience the joy of a life lived positively and enco
 urages those who are already actively attempting to “stamp out” negati
 vity to continue their quest.
URL:https://www.riverheadlibrary.org/event/dive-summer-new-attitude-66483
END:VEVENT
END:VCALENDAR
