BEGIN:VCALENDAR
VERSION:2.0
PRODID:-//Library Market//iCal Export//EN
BEGIN:VEVENT
SUMMARY:Amethyst Earrings with Lisa
UID:66554
DTSTAMP:20260420T004300Z
DTSTART:20260507T170000Z
DTEND:20260507T180000Z
LOCATION:Riverhead Free Library, 330 Court Street, Riverhead, NY 11901, Un
 ited States
ROOM: Craft Room
DESCRIPTION:Make these earrings in time to wear to that special event.
URL:https://www.riverheadlibrary.org/event/amethyst-earrings-lisa-66554
END:VEVENT
END:VCALENDAR
