BEGIN:VCALENDAR
VERSION:2.0
PRODID:-//Library Market//iCal Export//EN
BEGIN:VEVENT
SUMMARY:Defensive Driving
UID:66639
DTSTAMP:20260420T230400Z
DTSTART:20260528T133000Z
DTEND:20260528T193000Z
LOCATION:Riverhead Free Library, 330 Court Street, Riverhead, NY 11901, Un
 ited States
ROOM: Grand Room
DESCRIPTION:Completing this course may save up to 10% on your insurance an
 d reduce up to 4 points from your driving record. This is a 1 day, 6-hour 
 course with a 30-minute lunch break included. A snack, beverage, and sweat
 er are recommended. On the day of the class, bring your driver&#039;s lice
 nse and payment to be given to the instructor. Please arrive by 9:15am. L
 atecomers will be denied entry. Fee $35(Payment can be made using cash, o
 r United States Post Office money order made payable to Empire Safety Coun
 cil)
URL:https://www.riverheadlibrary.org/event/defensive-driving-66639
END:VEVENT
END:VCALENDAR
