BEGIN:VCALENDAR
VERSION:2.0
PRODID:-//Library Market//iCal Export//EN
BEGIN:VEVENT
SUMMARY:Virtual Zumba Gold with Irina
UID:66696
DTSTAMP:20260420T220900Z
DTSTART:20260626T140000Z
DTEND:20260626T150000Z
LOCATION:Riverhead Free Library, 330 Court Street, Riverhead, NY 11901, Un
 ited States
ROOM: Craft Room
DESCRIPTION:A class to get you moving and grooving. Irina will lead you we
 ekly with up-beat music, and movement that can be done or modified for all
  levels of fitness. You will be registered for the series when you registe
 r for the first time.Classes will be conducted virtually, but you may choo
 se to join others, in person, as we project Irina’s classes on the scree
 n at the library.   
URL:https://www.riverheadlibrary.org/event/virtual-zumba-gold-irina-66696
END:VEVENT
END:VCALENDAR
