BEGIN:VCALENDAR
VERSION:2.0
PRODID:-//Library Market//iCal Export//EN
BEGIN:VEVENT
SUMMARY:Toastmasters Club
UID:66702
DTSTAMP:20260420T212100Z
DTSTART:20260603T220000Z
DTEND:20260603T233000Z
LOCATION:Riverhead Free Library, 330 Court Street, Riverhead, NY 11901, Un
 ited States
ROOM: Writer&#039;s Cove
DESCRIPTION:Anyone 18+ looking to grow your public speaking and communicat
 ion skills join Riverhead Toastmasters Club.  
URL:https://www.riverheadlibrary.org/event/toastmasters-club-66702
END:VEVENT
END:VCALENDAR
