BEGIN:VCALENDAR
VERSION:2.0
PRODID:-//Library Market//iCal Export//EN
BEGIN:VEVENT
SUMMARY:Senior Lunch Social with Laura (Singles)
UID:66713
DTSTAMP:20260420T024600Z
DTSTART:20260506T170000Z
DTEND:20260506T190000Z
LOCATION:J &amp; R&#039;s Steakhouse, 4362 Middle Country Road, Calverton,
  NY, United States
ROOM: Senior Lunch Social with Laura (Singles)
DESCRIPTION:Come out and make new friends. You will be responsible for pay
 ing for what you order. Cash is often preferred for tipping and settling t
 he bill. J and R&#039;s Steakhouse
URL:https://www.riverheadlibrary.org/event/senior-lunch-social-laura-singl
 es-66713
END:VEVENT
END:VCALENDAR
