BEGIN:VCALENDAR
VERSION:2.0
PRODID:-//Library Market//iCal Export//EN
BEGIN:VEVENT
SUMMARY:Riverhead Photo Club
UID:66840
DTSTAMP:20260420T215900Z
DTSTART:20260625T223000Z
DTEND:20260625T233000Z
LOCATION:Riverhead Free Library, 330 Court Street, Riverhead, NY 11901, Un
 ited States
ROOM: Writer&#039;s Cove
DESCRIPTION:It meets the second and fourth Thursday of every month in the 
 library and is opened to all ages and levels of expertise who are interest
 ed in the artistic, technical and social aspects of the hobby. 
URL:https://www.riverheadlibrary.org/event/riverhead-photo-club-66840
END:VEVENT
END:VCALENDAR
