BEGIN:VCALENDAR
VERSION:2.0
PRODID:-//Library Market//iCal Export//EN
BEGIN:VEVENT
SUMMARY:Bridge Club
UID:66911
DTSTAMP:20260420T212100Z
DTSTART:20260622T170000Z
DTEND:20260622T200000Z
LOCATION:Riverhead Free Library, 330 Court Street, Riverhead, NY 11901, Un
 ited States
ROOM: Writer&#039;s Cove
DESCRIPTION:Join your neighbors for drop-in Bridge games. No registration 
 needed. All levels are welcome.
URL:https://www.riverheadlibrary.org/event/bridge-club-66911
END:VEVENT
END:VCALENDAR
